BEGIN:VCALENDAR
VERSION:2.0
PRODID:-//Lozériens de Paris - ECPv6.15.14//NONSGML v1.0//EN
CALSCALE:GREGORIAN
METHOD:PUBLISH
X-ORIGINAL-URL:https://www.lozeriens-de-paris.com
X-WR-CALDESC:Évènements pour Lozériens de Paris
REFRESH-INTERVAL;VALUE=DURATION:PT1H
X-Robots-Tag:noindex
X-PUBLISHED-TTL:PT1H
BEGIN:VTIMEZONE
TZID:Europe/Paris
BEGIN:DAYLIGHT
TZOFFSETFROM:+0100
TZOFFSETTO:+0200
TZNAME:CEST
DTSTART:20240331T010000
END:DAYLIGHT
BEGIN:STANDARD
TZOFFSETFROM:+0200
TZOFFSETTO:+0100
TZNAME:CET
DTSTART:20241027T010000
END:STANDARD
BEGIN:DAYLIGHT
TZOFFSETFROM:+0100
TZOFFSETTO:+0200
TZNAME:CEST
DTSTART:20250330T010000
END:DAYLIGHT
BEGIN:STANDARD
TZOFFSETFROM:+0200
TZOFFSETTO:+0100
TZNAME:CET
DTSTART:20251026T010000
END:STANDARD
BEGIN:DAYLIGHT
TZOFFSETFROM:+0100
TZOFFSETTO:+0200
TZNAME:CEST
DTSTART:20260329T010000
END:DAYLIGHT
BEGIN:STANDARD
TZOFFSETFROM:+0200
TZOFFSETTO:+0100
TZNAME:CET
DTSTART:20261025T010000
END:STANDARD
END:VTIMEZONE
BEGIN:VEVENT
DTSTART;TZID=Europe/Paris:20250613T193000
DTEND;TZID=Europe/Paris:20250613T230000
DTSTAMP:20260422T031947
CREATED:20250528T144551Z
LAST-MODIFIED:20250528T174419Z
UID:3394-1749843000-1749855600@www.lozeriens-de-paris.com
SUMMARY:Ligue Auvergnate : centenaire de la Bourrée de Paris le 13 juin 2025 à Paris
DESCRIPTION:La Bourrée de Paris fête son centenaire à Paris au théâtre Edouard VII. \nPour réserver vous pouvez vous rendre sur le site de La Bourrée de Paris www.labourree.com \n 
URL:https://www.lozeriens-de-paris.com/event/ligue-auvergnate-centenaire-de-la-bourree-de-paris-le-13-juin-a-paris/
LOCATION:Paris\, 140 rue du Bac\, Paris\, 75007\, France
END:VEVENT
END:VCALENDAR