BEGIN:VCALENDAR
VERSION:2.0
PRODID:-//Lozériens de Paris - ECPv6.15.14//NONSGML v1.0//EN
CALSCALE:GREGORIAN
METHOD:PUBLISH
X-ORIGINAL-URL:https://www.lozeriens-de-paris.com
X-WR-CALDESC:Évènements pour Lozériens de Paris
REFRESH-INTERVAL;VALUE=DURATION:PT1H
X-Robots-Tag:noindex
X-PUBLISHED-TTL:PT1H
BEGIN:VTIMEZONE
TZID:Europe/Paris
BEGIN:DAYLIGHT
TZOFFSETFROM:+0100
TZOFFSETTO:+0200
TZNAME:CEST
DTSTART:20240331T010000
END:DAYLIGHT
BEGIN:STANDARD
TZOFFSETFROM:+0200
TZOFFSETTO:+0100
TZNAME:CET
DTSTART:20241027T010000
END:STANDARD
BEGIN:DAYLIGHT
TZOFFSETFROM:+0100
TZOFFSETTO:+0200
TZNAME:CEST
DTSTART:20250330T010000
END:DAYLIGHT
BEGIN:STANDARD
TZOFFSETFROM:+0200
TZOFFSETTO:+0100
TZNAME:CET
DTSTART:20251026T010000
END:STANDARD
BEGIN:DAYLIGHT
TZOFFSETFROM:+0100
TZOFFSETTO:+0200
TZNAME:CEST
DTSTART:20260329T010000
END:DAYLIGHT
BEGIN:STANDARD
TZOFFSETFROM:+0200
TZOFFSETTO:+0100
TZNAME:CET
DTSTART:20261025T010000
END:STANDARD
END:VTIMEZONE
BEGIN:VEVENT
DTSTART;VALUE=DATE:20250805
DTEND;VALUE=DATE:20250806
DTSTAMP:20260422T000733
CREATED:20250528T143811Z
LAST-MODIFIED:20250528T150645Z
UID:3382-1754352000-1754438399@www.lozeriens-de-paris.com
SUMMARY:Paroisse Lozérienne rencontre d'été le 5 août 2025 à Aumont-Aubrac
DESCRIPTION:Assemblée générale\, messe et repas à Aumont-Aubrac.
URL:https://www.lozeriens-de-paris.com/event/paroisse-lozerienne-rencontre-dete-le-5-aout-2025-a-aumont-aubrac/
LOCATION:Aumont-Aubrac\, France
END:VEVENT
BEGIN:VEVENT
DTSTART;VALUE=DATE:20250806
DTEND;VALUE=DATE:20250807
DTSTAMP:20260422T000733
CREATED:20250528T143015Z
LAST-MODIFIED:20250528T150556Z
UID:3376-1754438400-1754524799@www.lozeriens-de-paris.com
SUMMARY:Fournels : Rencontre d'été à Fournels le 6 août 2025
DESCRIPTION:L’Amicale de Fournels organise sa journée estivale le 6 août 2025. Les informations seront bientôt disponibles.
URL:https://www.lozeriens-de-paris.com/event/fournels-rencontre-dete-a-fournels-le-6-aout-2025/
LOCATION:Fournels\, France
END:VEVENT
BEGIN:VEVENT
DTSTART;VALUE=DATE:20250812
DTEND;VALUE=DATE:20250813
DTSTAMP:20260422T000733
CREATED:20250528T140325Z
LAST-MODIFIED:20250528T150450Z
UID:3370-1754956800-1755043199@www.lozeriens-de-paris.com
SUMMARY:Lozère Estivale et Prix du Genêt d'Or 2025
DESCRIPTION:Retrouvez-nous cet été à Mende pour notre journée au pays. \nToutes les informations seront bientôt disponibles.
URL:https://www.lozeriens-de-paris.com/event/lozere-estivale-et-prix-du-genet-dor-2025/
LOCATION:Mende
END:VEVENT
BEGIN:VEVENT
DTSTART;VALUE=DATE:20250813
DTEND;VALUE=DATE:20250814
DTSTAMP:20260422T000733
CREATED:20250528T144910Z
LAST-MODIFIED:20250528T150351Z
UID:3401-1755043200-1755129599@www.lozeriens-de-paris.com
SUMMARY:Ligue Auvergnate : centenaire de la Bourrée de Paris le 13 août 2025 à Saint-Côme d'Olt
DESCRIPTION:Après Paris\, la Bourrée de Paris vous propose une journée de fête au pays à Saint-Côme d’Olt.
URL:https://www.lozeriens-de-paris.com/event/ligue-auvergnate-centenaire-de-la-bourree-de-paris-le-13-aout-2025-a-saint-come-dolt/
LOCATION:Saint-Côme d’Olt\, France
END:VEVENT
BEGIN:VEVENT
DTSTART;TZID=Europe/Paris:20250814T193000
DTEND;TZID=Europe/Paris:20250815T020000
DTSTAMP:20260422T000733
CREATED:20250528T141148Z
LAST-MODIFIED:20250528T150302Z
UID:3372-1755199800-1755223200@www.lozeriens-de-paris.com
SUMMARY:La Nasbinalaise à la Rosée du matin
DESCRIPTION:Repas dansant à partir de 19h30 à la Rosée du matin
URL:https://www.lozeriens-de-paris.com/event/la-nasbinalaise-a-la-rosee-du-matin/
LOCATION:Nasbinals\, France
END:VEVENT
BEGIN:VEVENT
DTSTART;VALUE=DATE:20250816
DTEND;VALUE=DATE:20250817
DTSTAMP:20260422T000733
CREATED:20250528T145228Z
LAST-MODIFIED:20250528T150106Z
UID:3405-1755302400-1755388799@www.lozeriens-de-paris.com
SUMMARY:Ligue Auvergnate : autour des pastourelles et de la Bourrée de Paris le 16 août 2025 à Espalion
DESCRIPTION:Dans la continuation des centenaires\, la Ligue Auvergnate vous propose de fêter les Pastourelles et la Bourrée de Paris à Espalion le 16 août 2025.
URL:https://www.lozeriens-de-paris.com/event/ligue-auvergnate-autour-des-pastourelles-et-de-la-bourree-de-paris-le-16-aout-2025-a-espalion/
LOCATION:Espalion\, France
END:VEVENT
END:VCALENDAR