BEGIN:VCALENDAR
VERSION:2.0
PRODID:-//Lozériens de Paris - ECPv6.15.14//NONSGML v1.0//EN
CALSCALE:GREGORIAN
METHOD:PUBLISH
X-ORIGINAL-URL:https://www.lozeriens-de-paris.com
X-WR-CALDESC:Évènements pour Lozériens de Paris
REFRESH-INTERVAL;VALUE=DURATION:PT1H
X-Robots-Tag:noindex
X-PUBLISHED-TTL:PT1H
BEGIN:VTIMEZONE
TZID:Europe/Paris
BEGIN:DAYLIGHT
TZOFFSETFROM:+0100
TZOFFSETTO:+0200
TZNAME:CEST
DTSTART:20250330T010000
END:DAYLIGHT
BEGIN:STANDARD
TZOFFSETFROM:+0200
TZOFFSETTO:+0100
TZNAME:CET
DTSTART:20251026T010000
END:STANDARD
BEGIN:DAYLIGHT
TZOFFSETFROM:+0100
TZOFFSETTO:+0200
TZNAME:CEST
DTSTART:20260329T010000
END:DAYLIGHT
BEGIN:STANDARD
TZOFFSETFROM:+0200
TZOFFSETTO:+0100
TZNAME:CET
DTSTART:20261025T010000
END:STANDARD
BEGIN:DAYLIGHT
TZOFFSETFROM:+0100
TZOFFSETTO:+0200
TZNAME:CEST
DTSTART:20270328T010000
END:DAYLIGHT
BEGIN:STANDARD
TZOFFSETFROM:+0200
TZOFFSETTO:+0100
TZNAME:CET
DTSTART:20271031T010000
END:STANDARD
END:VTIMEZONE
BEGIN:VEVENT
DTSTART;TZID=Europe/Paris:20260125T153000
DTEND;TZID=Europe/Paris:20260125T170000
DTSTAMP:20260421T161211
CREATED:20251021T200449Z
LAST-MODIFIED:20251021T201754Z
UID:3612-1769355000-1769360400@www.lozeriens-de-paris.com
SUMMARY:Paroisse lozérienne de Paris Messe des défunts
DESCRIPTION:
URL:https://www.lozeriens-de-paris.com/event/paroisse-lozerienne-de-paris-messe-des-defunts-2/
LOCATION:La Chapelle miraculeuse\, 140 rue du Bac\, Paris\, Sélectionner un État :\, 75007\, France
END:VEVENT
END:VCALENDAR