BEGIN:VCALENDAR
VERSION:2.0
PRODID:-//wp-events-plugin.com//7.2.3.1//EN
TZID:Europe/Paris
X-WR-TIMEZONE:Europe/Paris
BEGIN:VEVENT
UID:2@lozeriens-de-paris.com
DTSTART;TZID=Europe/Paris;VALUE=DATE:20180428
DTEND;TZID=Europe/Paris;VALUE=DATE:20180430
DTSTAMP:20180420T144627Z
URL:https://www.lozeriens-de-paris.com/events/test/
SUMMARY:test
DESCRIPTION:Dum haec in oriente aguntur\, Arelate hiemem agens Constantius 
 post theatralis ludos atque circenses ambitioso editos apparatu diem sextu
 m idus Octobres\, qui imperii eius annum 
ATTACH;FMTTYPE=image/jpeg:https://www.lozeriens-de-paris.com/wp-content/up
 loads/2018/04/carrousel-1.png
END:VEVENT
BEGIN:VEVENT
UID:3@lozeriens-de-paris.com
DTSTART;TZID=Europe/Paris;VALUE=DATE:20180430
DTEND;TZID=Europe/Paris;VALUE=DATE:20180802
DTSTAMP:20180420T152426Z
URL:https://www.lozeriens-de-paris.com/events/collecte-de-champigion/
SUMMARY:Collecte de champigion
DESCRIPTION:Ex his quidam aeternitati se commendari posse per statuas aesti
 mantes eas ardenter adfectant quasi plus praemii de figmentis aereis sensu
  carentibus adepturi\, quam ex conscientia honeste recteque factorum\, eas
 que auro curant inbracteari\, quod Acilio Glabrioni delatum est primo\, cu
 m consiliis armisque regem superasset Antiochum. quam autem sit pulchrum e
 xigua haec spernentem et minima ad ascensus verae gloriae tendere longos e
 t arduos\, ut memorat vates Ascraeus\, Censorius Cato monstravit. qui inte
 rrogatus quam ob rem inter multos... statuam non haberet malo inquit ambig
 ere bonos quam ob rem id non meruerim\, quam quod est gravius cur inpetrav
 erim mussitare.\n\nSed cautela nimia in peiores haeserat plagas\, ut
ATTACH;FMTTYPE=image/jpeg:https://www.lozeriens-de-paris.com/wp-content/up
 loads/2018/04/ob_12c3a8_2305111600ref-prod-13-image1.jpg
END:VEVENT
BEGIN:VEVENT
UID:6@lozeriens-de-paris.com
DTSTART;TZID=Europe/Paris:20191228T000000
DTEND;TZID=Europe/Paris:20191228T003000
DTSTAMP:20191220T151958Z
URL:https://www.lozeriens-de-paris.com/events/test-2/
SUMMARY:test
DESCRIPTION:zerzerrezezrzzzzzzzzzzzzz
END:VEVENT
BEGIN:VEVENT
UID:7@lozeriens-de-paris.com
DTSTART;TZID=Europe/Paris;VALUE=DATE:20250812
DTEND;TZID=Europe/Paris;VALUE=DATE:20250813
DTSTAMP:20250528T134836Z
URL:https://www.lozeriens-de-paris.com/events/lozere-estivale-et-prix-du-g
 enet-dor-2025/
SUMMARY:Lozère estivale et Prix du Genêt d'Or 2025
DESCRIPTION:Retrouvez-nous cet été à Mende.\nLe programme de la journée
  sera bientôt disponible.
END:VEVENT
BEGIN:VTIMEZONE
TZID:Europe/Paris
X-LIC-LOCATION:Europe/Paris
BEGIN:DAYLIGHT
DTSTART:20180325T030000
TZOFFSETFROM:+0100
TZOFFSETTO:+0200
TZNAME:CEST
END:DAYLIGHT
BEGIN:STANDARD
DTSTART:20181028T020000
TZOFFSETFROM:+0200
TZOFFSETTO:+0100
TZNAME:CET
END:STANDARD
BEGIN:DAYLIGHT
DTSTART:20190331T030000
TZOFFSETFROM:+0100
TZOFFSETTO:+0200
TZNAME:CEST
END:DAYLIGHT
BEGIN:STANDARD
DTSTART:20191027T020000
TZOFFSETFROM:+0200
TZOFFSETTO:+0100
TZNAME:CET
END:STANDARD
BEGIN:DAYLIGHT
DTSTART:20200329T030000
TZOFFSETFROM:+0100
TZOFFSETTO:+0200
TZNAME:CEST
END:DAYLIGHT
BEGIN:STANDARD
DTSTART:20201025T020000
TZOFFSETFROM:+0200
TZOFFSETTO:+0100
TZNAME:CET
END:STANDARD
BEGIN:DAYLIGHT
DTSTART:20210328T030000
TZOFFSETFROM:+0100
TZOFFSETTO:+0200
TZNAME:CEST
END:DAYLIGHT
BEGIN:STANDARD
DTSTART:20211031T020000
TZOFFSETFROM:+0200
TZOFFSETTO:+0100
TZNAME:CET
END:STANDARD
BEGIN:DAYLIGHT
DTSTART:20220327T030000
TZOFFSETFROM:+0100
TZOFFSETTO:+0200
TZNAME:CEST
END:DAYLIGHT
BEGIN:STANDARD
DTSTART:20221030T020000
TZOFFSETFROM:+0200
TZOFFSETTO:+0100
TZNAME:CET
END:STANDARD
BEGIN:DAYLIGHT
DTSTART:20230326T030000
TZOFFSETFROM:+0100
TZOFFSETTO:+0200
TZNAME:CEST
END:DAYLIGHT
BEGIN:STANDARD
DTSTART:20231029T020000
TZOFFSETFROM:+0200
TZOFFSETTO:+0100
TZNAME:CET
END:STANDARD
BEGIN:DAYLIGHT
DTSTART:20240331T030000
TZOFFSETFROM:+0100
TZOFFSETTO:+0200
TZNAME:CEST
END:DAYLIGHT
BEGIN:STANDARD
DTSTART:20241027T020000
TZOFFSETFROM:+0200
TZOFFSETTO:+0100
TZNAME:CET
END:STANDARD
BEGIN:DAYLIGHT
DTSTART:20250330T030000
TZOFFSETFROM:+0100
TZOFFSETTO:+0200
TZNAME:CEST
END:DAYLIGHT
END:VTIMEZONE
END:VCALENDAR