BEGIN:VCALENDAR
VERSION:2.0
PRODID:-//Lozériens de Paris - ECPv6.15.14//NONSGML v1.0//EN
CALSCALE:GREGORIAN
METHOD:PUBLISH
X-ORIGINAL-URL:https://www.lozeriens-de-paris.com
X-WR-CALDESC:Évènements pour Lozériens de Paris
REFRESH-INTERVAL;VALUE=DURATION:PT1H
X-Robots-Tag:noindex
X-PUBLISHED-TTL:PT1H
BEGIN:VTIMEZONE
TZID:Europe/Paris
BEGIN:DAYLIGHT
TZOFFSETFROM:+0100
TZOFFSETTO:+0200
TZNAME:CEST
DTSTART:20260329T010000
END:DAYLIGHT
BEGIN:STANDARD
TZOFFSETFROM:+0200
TZOFFSETTO:+0100
TZNAME:CET
DTSTART:20261025T010000
END:STANDARD
BEGIN:DAYLIGHT
TZOFFSETFROM:+0100
TZOFFSETTO:+0200
TZNAME:CEST
DTSTART:20270328T010000
END:DAYLIGHT
BEGIN:STANDARD
TZOFFSETFROM:+0200
TZOFFSETTO:+0100
TZNAME:CET
DTSTART:20271031T010000
END:STANDARD
BEGIN:DAYLIGHT
TZOFFSETFROM:+0100
TZOFFSETTO:+0200
TZNAME:CEST
DTSTART:20280326T010000
END:DAYLIGHT
BEGIN:STANDARD
TZOFFSETFROM:+0200
TZOFFSETTO:+0100
TZNAME:CET
DTSTART:20281029T010000
END:STANDARD
END:VTIMEZONE
BEGIN:VEVENT
DTSTART;VALUE=DATE:20270803
DTEND;VALUE=DATE:20270804
DTSTAMP:20260421T192802
CREATED:20251021T203138Z
LAST-MODIFIED:20251021T203138Z
UID:3629-1817251200-1817337599@www.lozeriens-de-paris.com
SUMMARY:Rencontre d'été 2027 de la PLP
DESCRIPTION:
URL:https://www.lozeriens-de-paris.com/event/rencontre-dete-2027-de-la-plp/
LOCATION:Lozère
END:VEVENT
BEGIN:VEVENT
DTSTART;VALUE=DATE:20270810
DTEND;VALUE=DATE:20270811
DTSTAMP:20260421T192802
CREATED:20251021T203249Z
LAST-MODIFIED:20251021T203249Z
UID:3631-1817856000-1817942399@www.lozeriens-de-paris.com
SUMMARY:Lozère estivale 2027
DESCRIPTION:
URL:https://www.lozeriens-de-paris.com/event/lozere-estivale-2027/
LOCATION:Lozère
END:VEVENT
END:VCALENDAR